BEGIN:VCALENDAR
VERSION:2.0
PRODID:-//Arizona Folklore Preserve - ECPv6.2.3//NONSGML v1.0//EN
CALSCALE:GREGORIAN
METHOD:PUBLISH
X-WR-CALNAME:Arizona Folklore Preserve
X-ORIGINAL-URL:https://arizonafolklore.com/reservation
X-WR-CALDESC:Events for Arizona Folklore Preserve
REFRESH-INTERVAL;VALUE=DURATION:PT1H
X-Robots-Tag:noindex
X-PUBLISHED-TTL:PT1H
BEGIN:VTIMEZONE
TZID:America/Phoenix
BEGIN:STANDARD
TZOFFSETFROM:-0700
TZOFFSETTO:-0700
TZNAME:MST
DTSTART:20260101T000000
END:STANDARD
END:VTIMEZONE
BEGIN:VEVENT
DTSTART;TZID=America/Phoenix:20260502T140000
DTEND;TZID=America/Phoenix:20260502T160000
DTSTAMP:20260424T191456
CREATED:20250816T205746Z
LAST-MODIFIED:20250816T205746Z
UID:7848-1777730400-1777737600@arizonafolklore.com
SUMMARY:Mule Boys
DESCRIPTION:Scott Muhleman\, namesake of this duo\, blows a mean harp. He’s been bending notes and playing the blues since the sixties. LA\, Waikiki in ’68\, Alaska\, San Francisco\, to Bisbee\, Arizona. He came to Bisbee the first time while touring with DC Miner and Blues on the Move.  Jon Messenger’s story has been a journey through\, away from\, and back again to the American West. A musical journey through the west. And the Everglades.  And Cornwall-on-Hudson. Always some guitar player willing to be patient with him\, indulge him with some music and “communicate to me how to play.”  Scott and Jon met at a campout at Parker Canyon Lake in 1992. Assembled with like minds in fine surroundings\, music was made. Music continued to happen and will happen again this weekend!
URL:https://arizonafolklore.com/reservation/event/mule-boys-9/
LOCATION:Arizona Folklore Preserve\, 56 E. Folklore Trail\, Hereford\, AZ\, 85615\, United States
ATTACH;FMTTYPE=image/jpeg:https://arizonafolklore.com/reservation/wp-content/uploads/2023/08/Mule_Boys-500.jpg
ORGANIZER;CN="AFP Reservations":MAILTO:reservations@arizonafolklore.com
END:VEVENT
BEGIN:VEVENT
DTSTART;TZID=America/Phoenix:20260503T140000
DTEND;TZID=America/Phoenix:20260503T160000
DTSTAMP:20260424T191456
CREATED:20250816T205906Z
LAST-MODIFIED:20250816T205906Z
UID:7852-1777816800-1777824000@arizonafolklore.com
SUMMARY:Mule Boys
DESCRIPTION:Scott Muhleman\, namesake of this duo\, blows a mean harp. He’s been bending notes and playing the blues since the sixties. LA\, Waikiki in ’68\, Alaska\, San Francisco\, to Bisbee\, Arizona. He came to Bisbee the first time while touring with DC Miner and Blues on the Move.  Jon Messenger’s story has been a journey through\, away from\, and back again to the American West. A musical journey through the west. And the Everglades.  And Cornwall-on-Hudson. Always some guitar player willing to be patient with him\, indulge him with some music and “communicate to me how to play.”  Scott and Jon met at a campout at Parker Canyon Lake in 1992. Assembled with like minds in fine surroundings\, music was made. Music continued to happen and will happen again this weekend!
URL:https://arizonafolklore.com/reservation/event/mule-boys-10/
LOCATION:Arizona Folklore Preserve\, 56 E. Folklore Trail\, Hereford\, AZ\, 85615\, United States
ATTACH;FMTTYPE=image/jpeg:https://arizonafolklore.com/reservation/wp-content/uploads/2023/08/Mule_Boys-500.jpg
ORGANIZER;CN="AFP Reservations":MAILTO:reservations@arizonafolklore.com
END:VEVENT
BEGIN:VEVENT
DTSTART;TZID=America/Phoenix:20260509T140000
DTEND;TZID=America/Phoenix:20260509T160000
DTSTAMP:20260424T191456
CREATED:20250816T210121Z
LAST-MODIFIED:20250816T210121Z
UID:7856-1778335200-1778342400@arizonafolklore.com
SUMMARY:Jim Jones and Mariam Funke
DESCRIPTION:Jim Jones and Mariam Funke are award-winning musicians from New Mexico\, and are two-thirds of the band\, The Cowboy Way. As a group they have been named Western Group of the Year four times by the International Western Music Association\, and have taken home numerous individual awards from the IWMA\, the Writers of America\, the National Cowboy and Western Heritage Museum\, and the Academy of Western Artists. Their music captures the spirit of the West…the past\, the present\, and the future\, as well as the values\, challenges\, and allure\, while their lively shows feature tight harmonies\, high energy and smokin’ instruments. They honor traditional cowboy songs and then bowl you over with their dynamic contemporary original Western tunes.
URL:https://arizonafolklore.com/reservation/event/jim-jones-and-mariam-funke-5/
LOCATION:Arizona Folklore Preserve\, 56 E. Folklore Trail\, Hereford\, AZ\, 85615\, United States
ATTACH;FMTTYPE=image/jpeg:https://arizonafolklore.com/reservation/wp-content/uploads/2023/09/Jim-Jones-Mariam-Funke-500.jpg
ORGANIZER;CN="AFP Reservations":MAILTO:reservations@arizonafolklore.com
END:VEVENT
BEGIN:VEVENT
DTSTART;TZID=America/Phoenix:20260510T140000
DTEND;TZID=America/Phoenix:20260510T160000
DTSTAMP:20260424T191456
CREATED:20250816T210451Z
LAST-MODIFIED:20250816T210451Z
UID:7864-1778421600-1778428800@arizonafolklore.com
SUMMARY:Jim Jones and Mariam Funke
DESCRIPTION:Jim Jones and Mariam Funke are award-winning musicians from New Mexico\, and are two-thirds of the band\, The Cowboy Way. As a group they have been named Western Group of the Year four times by the International Western Music Association\, and have taken home numerous individual awards from the IWMA\, the Writers of America\, the National Cowboy and Western Heritage Museum\, and the Academy of Western Artists. Their music captures the spirit of the West…the past\, the present\, and the future\, as well as the values\, challenges\, and allure\, while their lively shows feature tight harmonies\, high energy and smokin’ instruments. They honor traditional cowboy songs and then bowl you over with their dynamic contemporary original Western tunes.
URL:https://arizonafolklore.com/reservation/event/jim-jones-and-mariam-funke-6/
LOCATION:Arizona Folklore Preserve\, 56 E. Folklore Trail\, Hereford\, AZ\, 85615\, United States
ATTACH;FMTTYPE=image/jpeg:https://arizonafolklore.com/reservation/wp-content/uploads/2023/09/Jim-Jones-Mariam-Funke-500.jpg
ORGANIZER;CN="AFP Reservations":MAILTO:reservations@arizonafolklore.com
END:VEVENT
BEGIN:VEVENT
DTSTART;TZID=America/Phoenix:20260516T140000
DTEND;TZID=America/Phoenix:20260516T160000
DTSTAMP:20260424T191456
CREATED:20250816T210642Z
LAST-MODIFIED:20250816T210642Z
UID:7868-1778940000-1778947200@arizonafolklore.com
SUMMARY:Dry Wash Anglers
DESCRIPTION:Originally from back East\, the Dry Wash Anglers grew out of a mutual need for more fishing\, bluegrass and George Jones in 2022. With guitarist/vocalist Joel Leland\, songwriter/vocalist/guitarist Hank Abbey\, Katy Colville on bass\, and Corrine Gary on fiddle\, the Anglers channel the harmonies and hot flatpicking of a pantheon of heroes; Carter Stanley\, Larry Sparks\, Billy Joe Shaver and more. Stem to stern\, Abbey\, Leland and Colville nurture a respect for the familiar sound that shaped them but aren’t shy of the deeper waters of their own original music.
URL:https://arizonafolklore.com/reservation/event/dry-wash-anglers-5/
LOCATION:Arizona Folklore Preserve\, 56 E. Folklore Trail\, Hereford\, AZ\, 85615\, United States
ATTACH;FMTTYPE=image/jpeg:https://arizonafolklore.com/reservation/wp-content/uploads/2023/09/dwa-500.jpg
ORGANIZER;CN="AFP Reservations":MAILTO:reservations@arizonafolklore.com
END:VEVENT
BEGIN:VEVENT
DTSTART;TZID=America/Phoenix:20260517T140000
DTEND;TZID=America/Phoenix:20260517T160000
DTSTAMP:20260424T191456
CREATED:20250816T210810Z
LAST-MODIFIED:20250816T210810Z
UID:7872-1779026400-1779033600@arizonafolklore.com
SUMMARY:Dry Wash Anglers
DESCRIPTION:Originally from back East\, the Dry Wash Anglers grew out of a mutual need for more fishing\, bluegrass and George Jones in 2022. With guitarist/vocalist Joel Leland\, songwriter/vocalist/guitarist Hank Abbey\, Katy Colville on bass\, and Corrine Gary on fiddle\, the Anglers channel the harmonies and hot flatpicking of a pantheon of heroes; Carter Stanley\, Larry Sparks\, Billy Joe Shaver and more. Stem to stern\, Abbey\, Leland and Colville nurture a respect for the familiar sound that shaped them but aren’t shy of the deeper waters of their own original music.
URL:https://arizonafolklore.com/reservation/event/dry-wash-anglers-6/
LOCATION:Arizona Folklore Preserve\, 56 E. Folklore Trail\, Hereford\, AZ\, 85615\, United States
ATTACH;FMTTYPE=image/jpeg:https://arizonafolklore.com/reservation/wp-content/uploads/2023/09/dwa-500.jpg
ORGANIZER;CN="AFP Reservations":MAILTO:reservations@arizonafolklore.com
END:VEVENT
BEGIN:VEVENT
DTSTART;TZID=America/Phoenix:20260523T140000
DTEND;TZID=America/Phoenix:20260523T160000
DTSTAMP:20260424T191456
CREATED:20250816T210955Z
LAST-MODIFIED:20250816T210955Z
UID:7876-1779544800-1779552000@arizonafolklore.com
SUMMARY:Liz & Pete
DESCRIPTION:She’s Liz\, he’s Pete\, they are Liz & Pete. Liz Cerepanya and Peter Dalton Ronstadt join musical forces to explore material old and new. Liz’s heartfelt voice with Pete’s haunting harmonies and rich guitar arrangements captivate the mind and tug at the heart.  After a few passing introductions in their shared music scene\, Liz Cerepanya joined Peter Dalton Ronstadt on stage at Monterey Court in Tucson in the fall of 2019. They had had a brief opportunity to work up a couple of songs\, including Rodney Crowell’s “Leaving Louisiana in the Broad Daylight”\, and an instant musical match was realized. The decision to make a record together was easy\, and quickly Liz and Pete began exploring material including the timeless songs of Alan Garr\, songs of their favorite songwriters and singers\, new and old compositions by Pete as well as classic songs from his father Michael Joseph Ronstadt’s repertoire. Liz and Pete’s natural element is just the two of them on stage accompanied by an acoustic guitar and the Pennsylvania Stompbox.
URL:https://arizonafolklore.com/reservation/event/liz-pete-15/
LOCATION:Arizona Folklore Preserve\, 56 E. Folklore Trail\, Hereford\, AZ\, 85615\, United States
ATTACH;FMTTYPE=image/jpeg:https://arizonafolklore.com/reservation/wp-content/uploads/2023/08/Liz-Pete-500.jpg
ORGANIZER;CN="AFP Reservations":MAILTO:reservations@arizonafolklore.com
END:VEVENT
BEGIN:VEVENT
DTSTART;TZID=America/Phoenix:20260524T140000
DTEND;TZID=America/Phoenix:20260524T160000
DTSTAMP:20260424T191456
CREATED:20250816T211107Z
LAST-MODIFIED:20250816T211107Z
UID:7880-1779631200-1779638400@arizonafolklore.com
SUMMARY:Liz & Pete
DESCRIPTION:She’s Liz\, he’s Pete\, they are Liz & Pete. Liz Cerepanya and Peter Dalton Ronstadt join musical forces to explore material old and new. Liz’s heartfelt voice with Pete’s haunting harmonies and rich guitar arrangements captivate the mind and tug at the heart.  After a few passing introductions in their shared music scene\, Liz Cerepanya joined Peter Dalton Ronstadt on stage at Monterey Court in Tucson in the fall of 2019. They had had a brief opportunity to work up a couple of songs\, including Rodney Crowell’s “Leaving Louisiana in the Broad Daylight”\, and an instant musical match was realized. The decision to make a record together was easy\, and quickly Liz and Pete began exploring material including the timeless songs of Alan Garr\, songs of their favorite songwriters and singers\, new and old compositions by Pete as well as classic songs from his father Michael Joseph Ronstadt’s repertoire. Liz and Pete’s natural element is just the two of them on stage accompanied by an acoustic guitar and the Pennsylvania Stompbox.
URL:https://arizonafolklore.com/reservation/event/liz-pete-16/
LOCATION:Arizona Folklore Preserve\, 56 E. Folklore Trail\, Hereford\, AZ\, 85615\, United States
ATTACH;FMTTYPE=image/jpeg:https://arizonafolklore.com/reservation/wp-content/uploads/2023/08/Liz-Pete-500.jpg
ORGANIZER;CN="AFP Reservations":MAILTO:reservations@arizonafolklore.com
END:VEVENT
BEGIN:VEVENT
DTSTART;TZID=America/Phoenix:20260530T140000
DTEND;TZID=America/Phoenix:20260530T160000
DTSTAMP:20260424T191456
CREATED:20250816T211403Z
LAST-MODIFIED:20250816T211403Z
UID:7884-1780149600-1780156800@arizonafolklore.com
SUMMARY:Mark Stuart
DESCRIPTION:Mark Stuart spends every year as a full-time working artist and musician. Mostly performing his own unique shows\, doing singer-songwriter concerts\, he can be witnessed excelling as a band guitarist at hometown Nashville\, Tennessee gigs or sessions\, too. \nStuart has toured extensively in the USA\, Canada\, United Kingdom and Europe. Notable artists such as Freddy Fender\, Steve Earle\, Joan Baez\, and Steve Forbert have employed him for his musicianship. In a duo act with his artist wife\, Stacey Earle\, he spent thousands of days on tour through the years. That duo would release many albums on their own independent label\, Gearle Records. \nWhether it be Cambridge Folk Festival\, The Tonight Show with Jay Leno\, MTV\, Hardly Strictly Bluegrass Festival\, Stan Rogers Folk Festival\, Telluride Bluegrass Festival\, Kerrville Folk Festival\, Merlefest\, or countless small festivals and theaters\, Stuart’s storytelling\, guitar playing\, vocals\, or songs have caught the attention of music lovers. \nWhen asked to define Mark Stuart’s music it is virtually impossible\, as his versatility screams out loud. Rock\, blues\, folk\, country\, and more are evident in his performance. Electric\, acoustic\, slide guitar-all make up his musical toolbox. Travis-style\, Chicago blues\, honky tonk country\, finger-style folk-all are there when you hear him. His songs are oftentimes autobiographic pieces\, but\, can be constructed from the viewpoint of a lifelong troubadour who is paying attention to the world he sees around him. He could\, at any given time\, toss a Paul McCartney or John Fogerty or Woodie Guthrie song into his set. \n 
URL:https://arizonafolklore.com/reservation/event/mark-stuart-3/
LOCATION:Arizona Folklore Preserve\, 56 E. Folklore Trail\, Hereford\, AZ\, 85615\, United States
ATTACH;FMTTYPE=image/jpeg:https://arizonafolklore.com/reservation/wp-content/uploads/2024/08/mark-stuart-500.jpg
ORGANIZER;CN="AFP Reservations":MAILTO:reservations@arizonafolklore.com
END:VEVENT
BEGIN:VEVENT
DTSTART;TZID=America/Phoenix:20260531T140000
DTEND;TZID=America/Phoenix:20260531T160000
DTSTAMP:20260424T191456
CREATED:20250816T211542Z
LAST-MODIFIED:20250816T211542Z
UID:7888-1780236000-1780243200@arizonafolklore.com
SUMMARY:Mark Stuart
DESCRIPTION:Mark Stuart spends every year as a full-time working artist and musician. Mostly performing his own unique shows\, doing singer-songwriter concerts\, he can be witnessed excelling as a band guitarist at hometown Nashville\, Tennessee gigs or sessions\, too. \nStuart has toured extensively in the USA\, Canada\, United Kingdom and Europe. Notable artists such as Freddy Fender\, Steve Earle\, Joan Baez\, and Steve Forbert have employed him for his musicianship. In a duo act with his artist wife\, Stacey Earle\, he spent thousands of days on tour through the years. That duo would release many albums on their own independent label\, Gearle Records. \nWhether it be Cambridge Folk Festival\, The Tonight Show with Jay Leno\, MTV\, Hardly Strictly Bluegrass Festival\, Stan Rogers Folk Festival\, Telluride Bluegrass Festival\, Kerrville Folk Festival\, Merlefest\, or countless small festivals and theaters\, Stuart’s storytelling\, guitar playing\, vocals\, or songs have caught the attention of music lovers. \nWhen asked to define Mark Stuart’s music it is virtually impossible\, as his versatility screams out loud. Rock\, blues\, folk\, country\, and more are evident in his performance. Electric\, acoustic\, slide guitar-all make up his musical toolbox. Travis-style\, Chicago blues\, honky tonk country\, finger-style folk-all are there when you hear him. His songs are oftentimes autobiographic pieces\, but\, can be constructed from the viewpoint of a lifelong troubadour who is paying attention to the world he sees around him. He could\, at any given time\, toss a Paul McCartney or John Fogerty or Woodie Guthrie song into his set. \n 
URL:https://arizonafolklore.com/reservation/event/mark-stuart-4/
LOCATION:Arizona Folklore Preserve\, 56 E. Folklore Trail\, Hereford\, AZ\, 85615\, United States
ATTACH;FMTTYPE=image/jpeg:https://arizonafolklore.com/reservation/wp-content/uploads/2024/08/mark-stuart-500.jpg
ORGANIZER;CN="AFP Reservations":MAILTO:reservations@arizonafolklore.com
END:VEVENT
END:VCALENDAR